BEGIN:VCALENDAR
VERSION:2.0
PRODID:-//Blaise Duboux | Art du Vin - ECPv6.8.1//NONSGML v1.0//EN
CALSCALE:GREGORIAN
METHOD:PUBLISH
X-WR-CALNAME:Blaise Duboux | Art du Vin
X-ORIGINAL-URL:https://blaiseduboux.sindev.ch
X-WR-CALDESC:Évènements pour Blaise Duboux | Art du Vin
REFRESH-INTERVAL;VALUE=DURATION:PT1H
X-Robots-Tag:noindex
X-PUBLISHED-TTL:PT1H
BEGIN:VTIMEZONE
TZID:Europe/Paris
BEGIN:DAYLIGHT
TZOFFSETFROM:+0100
TZOFFSETTO:+0200
TZNAME:CEST
DTSTART:20230326T010000
END:DAYLIGHT
BEGIN:STANDARD
TZOFFSETFROM:+0200
TZOFFSETTO:+0100
TZNAME:CET
DTSTART:20231029T010000
END:STANDARD
TZID:UTC
BEGIN:STANDARD
TZOFFSETFROM:+0000
TZOFFSETTO:+0000
TZNAME:UTC
DTSTART:20230101T000000
END:STANDARD
END:VTIMEZONE
BEGIN:VEVENT
DTSTART;TZID=Europe/Paris:20230506T090000
DTEND;TZID=Europe/Paris:20230506T170000
DTSTAMP:20260424T003205
CREATED:20220418T153332Z
LAST-MODIFIED:20230227T202526Z
UID:6239-1683363600-1683392400@blaiseduboux.sindev.ch
SUMMARY:Epesses en Fête - 6 mai 2023
DESCRIPTION:Venez goûter l’Epesses nouveau le 6 mai entre 09h et 17h\n\n\n\n\n\n\n\n\n\n\n\n\n\n\nLe forfait de Frs 90.– comprend la dégustation à volonté\, un pot vaudois de 140cl.\, le repas de midi\, un saucisson vaudois\, une portion de fromage et un verre souvenir. Plusieurs plaisirs qui vous rappelleront votre journée en terre vaudoise.\n\n\n\n\n\n\n\n\n\n\n\n\n\n\n\n\n\n\n\n\n\n\n\nhttps://epesses-nouveau.ch
URL:https://blaiseduboux.sindev.ch/event/epesses-en-fete-7-mai-2022/
LOCATION:Epesses\, Suisse
CATEGORIES:Evénement ouvert au public,Information,payant,Wine Tasting
ATTACH;FMTTYPE=image/png:https://blaiseduboux.sindev.ch/wp-content/uploads/2022/04/Capture-décran-2023-02-27-à-21.22.34.png
END:VEVENT
BEGIN:VEVENT
DTSTART;VALUE=DATE:20230527
DTEND;VALUE=DATE:20230530
DTSTAMP:20260424T003205
CREATED:20220418T160033Z
LAST-MODIFIED:20230227T203355Z
UID:3812-1685145600-1685404799@blaiseduboux.sindev.ch
SUMMARY:Les 27 et 28 mai 2023 c'est les Caves Ouvertes Vaudoises !
DESCRIPTION:Rendez-vous les 27 et 28 mai 2023 pour les traditionnelles Caves Ouvertes Vaudoises\n\n\n\n\nRDV sur www.mescavesouvertes.ch pour acquérir votre passeport vous donnant accès à l’ensemble des caves du canton de Vaud durant les 2 jours.\n\nBienvenu au Domaine pour échanger sur l’univers de la vigne et du vin et pour déguster nos Chasselas\, nos vins rouges ou nos spécialités.\nLe Domaine se trouve dans le pittoresque village d’Epesses à Lavaux\, il compte 5 hectares de vignes dont 75% de chasselas. Les autres cépages produits sont le Chardonnay et la Marsanne pour les blancs\, le Plant Robez – ancienne sélection locale de Gamay – le Pinot Noir\, la Syrah\, le Merlot\, le Cabernet Franc et le Divico pour les rouges. Le Chasselas\, cépage majoritaire du domaine propose cinq cuvées\, deux Dézaley\, un Calamin\, un Epesses et un Villette.\nDomaine viticole en culture biologique certifiée par bio-inspecta (CH-BIO-006).
URL:https://blaiseduboux.sindev.ch/event/shine-nwine-6/
LOCATION:Epesses\, Suisse
CATEGORIES:Evénement ouvert au public,Information,payant,Wine Tasting
ATTACH;FMTTYPE=image/jpeg:https://blaiseduboux.sindev.ch/wp-content/uploads/2020/11/Villette_2verres_BD-scaled.jpg
END:VEVENT
END:VCALENDAR